BEGIN:VCALENDAR
VERSION:2.0
PRODID:-//Intand Corporation//Tandem//EN
METHOD:PUBLISH
BEGIN:VEVENT
DTSTAMP:20260424T050118Z
DTSTART:20120416T210000Z
DTEND:20120416T233000Z
TRANSP:TRANSPARENT
PRIORITY:0
SUMMARY:8th Grade Track Meet @ Pleasant Lea
LOCATION:Pleasant Lea Middle
DESCRIPTION:Roger Stirtz and Tim Nixon\n\nGroups:\nLJHS 8th Grade Track\n\
 nSchools:\nHeritage Middle School\n\nLocation:\nPleasant Lea Middle\n\n
URL;VALUE=URI:http://liberty53.tandem.co/index.php?type=view&action=event&
 id=77085
CREATED:20120215T144913Z
LAST-MODIFIED:20120215T144913Z
UID:event-77085-liberty53@intand.com
END:VEVENT
END:VCALENDAR
