BEGIN:VCALENDAR
VERSION:2.0
PRODID:-//Intand Corporation//Tandem//EN
METHOD:PUBLISH
BEGIN:VEVENT
DTSTAMP:20260424T032920Z
DTSTART:20110917T140000Z
DTEND:20110917T170000Z
TRANSP:TRANSPARENT
PRIORITY:0
SUMMARY:LNHS-Varsity Softball @ Platte County Tournament
LOCATION:Platte County High
DESCRIPTION:Groups:\nLNHS Softball - JV/Varsity \n\nSchools:\nLiberty Nort
 h High School\n\nLocation:\nPlatte County High\n\n
URL;VALUE=URI:http://liberty53.tandem.co/index.php?type=view&action=event&
 id=7430
CREATED:20100730T153645Z
LAST-MODIFIED:20100730T153645Z
UID:event-7430-liberty53@intand.com
END:VEVENT
END:VCALENDAR
