BEGIN:VCALENDAR
VERSION:2.0
PRODID:-//Intand Corporation//Tandem//EN
METHOD:PUBLISH
BEGIN:VEVENT
DTSTAMP:20260424T015232Z
DTSTART:20111003T220000Z
DTEND:20111004T045959Z
TRANSP:TRANSPARENT
PRIORITY:0
SUMMARY:LNHS-Varsity Soccer @ PHill South Tournament
LOCATION:Park Hill South High
DESCRIPTION:vs Smithville\n\nBreakdown: TBD\n\nReturn: TBD\n\nGroups:\nLNH
 S Soccer - Boys JV/Varsity\n\nSchools:\nHeritage Middle School\nLiberty No
 rth High School\nDiscovery Middle School\n\nLocation:\nPark Hill South Hig
 h\n\n
URL;VALUE=URI:http://liberty53.tandem.co/index.php?type=view&action=event&
 id=7426
CREATED:20100730T153644Z
LAST-MODIFIED:20110930T125905Z
UID:event-7426-liberty53@intand.com
END:VEVENT
END:VCALENDAR
