BEGIN:VCALENDAR
VERSION:2.0
PRODID:-//Intand Corporation//Tandem//EN
METHOD:PUBLISH
BEGIN:VEVENT
DTSTAMP:20260424T032926Z
DTSTART:20110919T220000Z
DTEND:20110920T045959Z
TRANSP:TRANSPARENT
PRIORITY:0
SUMMARY:LNHS-Jr. Varsity Football vs Staley HS
LOCATION:Liberty High School
DESCRIPTION:at LHS football field\n\nBreakdown: TBD\n\nReturn: TBD\n\nGrou
 ps:\nLNHS Football - JV\n\nSchools:\nLiberty North High School\n\nLocation
 :\nLiberty High School\n\n
URL;VALUE=URI:http://liberty53.tandem.co/index.php?type=view&action=event&
 id=7370
CREATED:20100730T153643Z
LAST-MODIFIED:20110919T153343Z
UID:event-7370-liberty53@intand.com
END:VEVENT
END:VCALENDAR
