BEGIN:VCALENDAR
VERSION:2.0
PRODID:-//Intand Corporation//Tandem//EN
METHOD:PUBLISH
BEGIN:VEVENT
DTSTAMP:20260424T033001Z
DTSTART:20110920T223000Z
DTEND:20110921T013000Z
TRANSP:TRANSPARENT
PRIORITY:0
SUMMARY:LNHS-JV / VAR Volleyball vs Park Hill HS - PINK OUT
LOCATION:LNHS Aux Gym - 407 (GH HVAC)
DESCRIPTION:Pink Out game - Cancer awareness night at the volleyball game.
   Both squads will waer pink with the crowd encouraged to wear pink as wel
 l.  Silent auction with over $2000 in merchandise to be had.\n\nGroups:\nL
 NHS Volleyball - JV/Varsity\n\nSchools:\nLiberty North High School\n\nLoca
 tion:\nLNHS Aux Gym - 407 (GH HVAC)\n\n
URL;VALUE=URI:http://liberty53.tandem.co/index.php?type=view&action=event&
 id=7338
CREATED:20100730T153642Z
LAST-MODIFIED:20110916T123506Z
UID:event-7338-liberty53@intand.com
END:VEVENT
END:VCALENDAR
