BEGIN:VCALENDAR
VERSION:2.0
PRODID:-//Intand Corporation//Tandem//EN
METHOD:PUBLISH
BEGIN:VEVENT
DTSTAMP:20260424T032929Z
DTSTART:20110916T210000Z
DTEND:20110917T000000Z
TRANSP:TRANSPARENT
PRIORITY:0
SUMMARY:LNHS-JV / VAR Softball @ Platte County HS
LOCATION:Platte County High
DESCRIPTION:Groups:\nLNHS Softball - JV/Varsity \n\nSchools:\nLiberty Nort
 h High School\n\nLocation:\nPlatte County High\n\n
URL;VALUE=URI:http://liberty53.tandem.co/index.php?type=view&action=event&
 id=7262
CREATED:20100730T153640Z
LAST-MODIFIED:20100730T153640Z
UID:event-7262-liberty53@intand.com
END:VEVENT
END:VCALENDAR
