BEGIN:VCALENDAR
VERSION:2.0
PRODID:-//Intand Corporation//Tandem//EN
METHOD:PUBLISH
BEGIN:VEVENT
DTSTAMP:20260424T063432Z
DTSTART:20101218T160000Z
DTEND:20101218T190000Z
TRANSP:TRANSPARENT
PRIORITY:0
SUMMARY:LHS-Varsity Boy's Basketball @ Hy-Vee Shootout
LOCATION:Avila University
DESCRIPTION:Groups:\nLHS Boys Basketball JV/Varsity\n\nSchools:\nLiberty H
 igh School\n\nLocation:\nAvila University\n\n
URL;VALUE=URI:http://liberty53.tandem.co/index.php?type=view&action=event&
 id=6830
CREATED:20100730T143312Z
LAST-MODIFIED:20100730T143312Z
UID:event-6830-liberty53@intand.com
END:VEVENT
END:VCALENDAR
