BEGIN:VCALENDAR
VERSION:2.0
PRODID:-//Intand Corporation//Tandem//EN
METHOD:PUBLISH
BEGIN:VEVENT
DTSTAMP:20260424T033204Z
DTSTART:20101220T233000Z
DTEND:20101221T023000Z
TRANSP:TRANSPARENT
PRIORITY:0
SUMMARY:LHS-Sophomore Boy's Basketball @ Blue Springs
LOCATION:Blue Springs High
DESCRIPTION:Groups:\nLHS Boys Basketball Sophomore\n\nSchools:\nLiberty Hi
 gh School\n\nLocation:\nBlue Springs High\n\n
URL;VALUE=URI:http://liberty53.tandem.co/index.php?type=view&action=event&
 id=6759
CREATED:20100730T143311Z
LAST-MODIFIED:20100730T143311Z
UID:event-6759-liberty53@intand.com
END:VEVENT
END:VCALENDAR
