BEGIN:VCALENDAR
VERSION:2.0
PRODID:-//Intand Corporation//Tandem//EN
METHOD:PUBLISH
BEGIN:VEVENT
DTSTAMP:20260424T015233Z
DTSTART;VALUE=DATE:20110907
DTEND;VALUE=DATE:20110911
TRANSP:TRANSPARENT
PRIORITY:0
SUMMARY:LHS-Jr. Varsity Soccer vs. Shawnee Mission S. Tournament
LOCATION:Shawnee Mission South High
DESCRIPTION:Groups:\nLHS Boys Soccer JV/Varsity\n\nSchools:\nLiberty High 
 School\n\nLocation:\nShawnee Mission South High\n\n
URL;VALUE=URI:http://liberty53.tandem.co/index.php?type=view&action=event&
 id=6742
CREATED:20100730T143310Z
LAST-MODIFIED:20100730T143310Z
UID:event-6742-liberty53@intand.com
END:VEVENT
END:VCALENDAR
