BEGIN:VCALENDAR
VERSION:2.0
PRODID:-//Intand Corporation//Tandem//EN
METHOD:PUBLISH
BEGIN:VEVENT
DTSTAMP:20260424T041205Z
DTSTART:20110928T150000Z
DTEND:20110928T153000Z
TRANSP:TRANSPARENT
PRIORITY:0
SUMMARY:DAS-PDL:  Aaron Money
LOCATION:DAC 4-PD Library
DESCRIPTION:Groups:\nFine Arts\n\nSchools:\nDistrict Administration Center
 \n\nLocation:\nDAC 4-PD Library\n\naaron Money\n\n
URL;VALUE=URI:https://liberty53.tandem.co/index.php?type=view&action=event
 &id=66923
CREATED:20110928T145253Z
LAST-MODIFIED:20110928T145253Z
UID:event-66923-liberty53@intand.com
END:VEVENT
END:VCALENDAR
