BEGIN:VCALENDAR
VERSION:2.0
PRODID:-//Intand Corporation//Tandem//EN
METHOD:PUBLISH
BEGIN:VEVENT
DTSTAMP:20260424T050303Z
DTSTART:20110921T120000Z
DTEND:20110921T130000Z
TRANSP:TRANSPARENT
PRIORITY:0
SUMMARY:IEP - Barreca - Zach Rogers
LOCATION:LHS STUCO Room
DESCRIPTION:IEP Barreca - Zach Rogers\n\nGroups:\nLHS Students\n\nSchools:
 \nLiberty High School\n\nLocation:\nLHS STUCO Room\n\n
URL;VALUE=URI:http://liberty53.tandem.co/index.php?type=view&action=event&
 id=65625
CREATED:20110915T181502Z
LAST-MODIFIED:20110916T171313Z
UID:event_request-65625-liberty53@intand.com
END:VEVENT
END:VCALENDAR
