BEGIN:VCALENDAR
VERSION:2.0
PRODID:-//Intand Corporation//Tandem//EN
METHOD:PUBLISH
BEGIN:VEVENT
DTSTAMP:20260424T032909Z
DTSTART:20110921T193000Z
DTEND:20110921T203000Z
TRANSP:TRANSPARENT
PRIORITY:0
SUMMARY:DAS-D:  ELA PD
LOCATION:DAS Conference Room D
DESCRIPTION:6th\, Jamie and Lyndsey\n\nGroups:\nDAC Innovation & Learning\
 n\nSchools:\nDistrict Administration Center\n\nLocation:\nDAS Conference R
 oom D\n\nAndrea Sumy\n\n
URL;VALUE=URI:http://liberty53.tandem.co/index.php?type=view&action=event&
 id=65615
CREATED:20110915T162759Z
LAST-MODIFIED:20110915T162759Z
UID:event-65615-liberty53@intand.com
END:VEVENT
END:VCALENDAR
