BEGIN:VCALENDAR
VERSION:2.0
PRODID:-//Intand Corporation//Tandem//EN
METHOD:PUBLISH
BEGIN:VEVENT
DTSTAMP:20260424T050136Z
DTSTART:20110923T131500Z
DTEND:20110923T131600Z
TRANSP:TRANSPARENT
PRIORITY:0
SUMMARY:LC- Staff Picture
LOCATION:LCE Soccer Field
DESCRIPTION:Groups:\nLCE Admin\nLCE Staff\n\nSchools:\nLewis And Clark Ele
 mentary\n\nLocation:\nLCE Soccer Field\n\n
URL;VALUE=URI:http://liberty53.tandem.co/index.php?type=view&action=event&
 id=65570
CREATED:20110914T153721Z
LAST-MODIFIED:20110914T153721Z
UID:event-65570-liberty53@intand.com
END:VEVENT
END:VCALENDAR
