BEGIN:VCALENDAR
VERSION:2.0
PRODID:-//Intand Corporation//Tandem//EN
METHOD:PUBLISH
BEGIN:VEVENT
DTSTAMP:20260424T015330Z
DTSTART:20110914T193000Z
DTEND:20110914T203000Z
TRANSP:TRANSPARENT
PRIORITY:0
SUMMARY:DAC-2/4 Keystone Client Meeting
LOCATION:DAC Conference Room 2 & 4
DESCRIPTION:Groups:\nDAC Business Operations\n\nSchools:\nDistrict Adminis
 tration Center\n\nLocation:\nDAC Conference Room 2 & 4\n\n
URL;VALUE=URI:http://liberty53.tandem.co/index.php?type=view&action=event&
 id=65464
CREATED:20110914T133138Z
LAST-MODIFIED:20110914T133138Z
UID:event-65464-liberty53@intand.com
END:VEVENT
END:VCALENDAR
