BEGIN:VCALENDAR
VERSION:2.0
PRODID:-//Intand Corporation//Tandem//EN
METHOD:PUBLISH
BEGIN:VEVENT
DTSTAMP:20260424T032921Z
DTSTART:20110927T230000Z
DTEND:20110928T013000Z
TRANSP:TRANSPARENT
PRIORITY:0
SUMMARY:PEAK Middle Level Parent Mtg
LOCATION:SVMS LGIR
DESCRIPTION:Groups:\nSVMS Peak\n\nSchools:\nSouth Valley Middle School\n\n
 Location:\nSVMS LGIR\n\n
URL;VALUE=URI:http://liberty53.tandem.co/index.php?type=view&action=event&
 id=65459
CREATED:20110913T190647Z
LAST-MODIFIED:20110913T190647Z
UID:event_request-65459-liberty53@intand.com
END:VEVENT
END:VCALENDAR
