BEGIN:VCALENDAR
VERSION:2.0
PRODID:-//Intand Corporation//Tandem//EN
METHOD:PUBLISH
BEGIN:VEVENT
DTSTAMP:20260424T033050Z
DTSTART:20110922T123000Z
DTEND:20110922T134000Z
TRANSP:TRANSPARENT
PRIORITY:0
SUMMARY:AD 5th Grade Strings Rehearsal
LOCATION:Alexander Doniphan Elementary\, ADE Library
DESCRIPTION:5th Grade Strings Rehearsal\nPlease note:  3rd Thursday of the
  month location is AD Music Room\n\nGroups:\nOrchestra\n\nSchools:\nAlexan
 der Doniphan Elementary\n\nLocations:\nAlexander Doniphan Elementary\nADE 
 Library\n\n
URL;VALUE=URI:http://liberty53.tandem.co/index.php?type=view&action=event&
 id=65396
CREATED:20110913T162227Z
LAST-MODIFIED:20110913T162227Z
UID:event_request-65396-liberty53@intand.com
END:VEVENT
END:VCALENDAR
