BEGIN:VCALENDAR
VERSION:2.0
PRODID:-//Intand Corporation//Tandem//EN
METHOD:PUBLISH
BEGIN:VEVENT
DTSTAMP:20260424T015232Z
DTSTART:20110918T203000Z
DTEND:20110918T233000Z
TRANSP:TRANSPARENT
PRIORITY:0
SUMMARY:SC - Journey Church
LOCATION:Shoal Creek Elementary
DESCRIPTION:Normal Sunday use of rooms\n\nGroups:\nJourney Church of Kansa
 s City\n\nSchools:\nShoal Creek Elementary\n\nLocation:\nShoal Creek Eleme
 ntary\n\n
URL;VALUE=URI:http://liberty53.tandem.co/index.php?type=view&action=event&
 id=65204
CREATED:20110912T201319Z
LAST-MODIFIED:20110912T201319Z
UID:event-65204-liberty53@intand.com
END:VEVENT
END:VCALENDAR
