BEGIN:VCALENDAR
VERSION:2.0
PRODID:-//Intand Corporation//Tandem//EN
METHOD:PUBLISH
BEGIN:VEVENT
DTSTAMP:20260424T063429Z
DTSTART:20110913T220000Z
DTEND:20110913T230000Z
TRANSP:TRANSPARENT
PRIORITY:0
SUMMARY:LHS - Stadium Leadership Committee Meeting
LOCATION:LHS LMC Main Floor
DESCRIPTION:Groups:\nLHS Parent\n\nSchools:\nLiberty High School\n\nLocati
 on:\nLHS LMC Main Floor\n\n
URL;VALUE=URI:http://liberty53.tandem.co/index.php?type=view&action=event&
 id=64994
CREATED:20110909T155310Z
LAST-MODIFIED:20110909T155310Z
UID:event-64994-liberty53@intand.com
END:VEVENT
END:VCALENDAR
