BEGIN:VCALENDAR
VERSION:2.0
PRODID:-//Intand Corporation//Tandem//EN
METHOD:PUBLISH
BEGIN:VEVENT
DTSTAMP:20260424T033349Z
DTSTART:20110922T130000Z
DTEND:20110922T140000Z
TRANSP:TRANSPARENT
PRIORITY:0
SUMMARY:DAS-PDL:  Augustine's Group
LOCATION:DAC 4-PD Library
DESCRIPTION:Groups:\nDAC Long Term Suspension\n\nSchools:\nDistrict Admini
 stration Center\n\nLocation:\nDAC 4-PD Library\n\nContact person: Lisa Aug
 ustine\n\n
URL;VALUE=URI:http://liberty53.tandem.co/index.php?type=view&action=event&
 id=64888
CREATED:20110908T161445Z
LAST-MODIFIED:20110908T161445Z
UID:event-64888-liberty53@intand.com
END:VEVENT
END:VCALENDAR
