BEGIN:VCALENDAR
VERSION:2.0
PRODID:-//Intand Corporation//Tandem//EN
METHOD:PUBLISH
BEGIN:VEVENT
DTSTAMP:20260424T041324Z
DTSTART:20110214T233000Z
DTEND:20110215T023000Z
TRANSP:TRANSPARENT
PRIORITY:0
SUMMARY:LHS-JV/Var Girl's Basketball @ Wm Chrisman
LOCATION:William Chrisman High
DESCRIPTION:Groups:\nLHS Girls Basketball JV/Varsity\n\nSchools:\nLiberty 
 High School\n\nLocation:\nWilliam Chrisman High\n\n
URL;VALUE=URI:http://liberty53.tandem.co/index.php?type=view&action=event&
 id=6463
CREATED:20100730T143304Z
LAST-MODIFIED:20100730T143304Z
UID:event-6463-liberty53@intand.com
END:VEVENT
END:VCALENDAR
