BEGIN:VCALENDAR
VERSION:2.0
PRODID:-//Intand Corporation//Tandem//EN
METHOD:PUBLISH
BEGIN:VEVENT
DTSTAMP:20260424T053313Z
DTSTART:20101222T233000Z
DTEND:20101223T023000Z
TRANSP:TRANSPARENT
PRIORITY:0
SUMMARY:LHS-JV/Var Girl's Basketball @ St. Joe Central
LOCATION:St. Joe Central High
DESCRIPTION:Groups:\nLHS Girls Basketball JV/Varsity\n\nSchools:\nLiberty 
 High School\n\nLocation:\nSt. Joe Central High\n\n
URL;VALUE=URI:http://liberty53.tandem.co/index.php?type=view&action=event&
 id=6461
CREATED:20100730T143304Z
LAST-MODIFIED:20100730T143304Z
UID:event-6461-liberty53@intand.com
END:VEVENT
END:VCALENDAR
