BEGIN:VCALENDAR
VERSION:2.0
PRODID:-//Intand Corporation//Tandem//EN
METHOD:PUBLISH
BEGIN:VEVENT
DTSTAMP:20260424T064446Z
DTSTART:20110927T130000Z
DTEND:20110927T200000Z
TRANSP:TRANSPARENT
PRIORITY:0
SUMMARY:LJHS-Theatre Class
LOCATION:LJHS Auditorium
DESCRIPTION:Olivia Wheeler\n\nGroups:\nLJHS Staff\n\nSchools:\nHeritage Mi
 ddle School\n\nLocation:\nLJHS Auditorium\n\n
URL;VALUE=URI:http://liberty53.tandem.co/index.php?type=view&action=event&
 id=64487
CREATED:20110907T180717Z
LAST-MODIFIED:20110907T180717Z
UID:event-64487-liberty53@intand.com
END:VEVENT
END:VCALENDAR
