BEGIN:VCALENDAR
VERSION:2.0
PRODID:-//Intand Corporation//Tandem//EN
METHOD:PUBLISH
BEGIN:VEVENT
DTSTAMP:20260424T033206Z
DTSTART:20110923T220000Z
DTEND:20110924T040000Z
TRANSP:TRANSPARENT
PRIORITY:0
SUMMARY:LHS StuCo Planning Meeting/Retreat
LOCATION:LHS Commons
DESCRIPTION:Evening leadership retreat and work session for homecoming pla
 nning\n\nGroups:\nLHS Student Council\n\nSchools:\nLiberty High School\n\n
 Location:\nLHS Commons\n\n
URL;VALUE=URI:http://liberty53.tandem.co/index.php?type=view&action=event&
 id=64476
CREATED:20110907T175914Z
LAST-MODIFIED:20110907T175914Z
UID:event_request-64476-liberty53@intand.com
END:VEVENT
END:VCALENDAR
