BEGIN:VCALENDAR
VERSION:2.0
PRODID:-//Intand Corporation//Tandem//EN
METHOD:PUBLISH
BEGIN:VEVENT
DTSTAMP:20260424T063548Z
DTSTART;VALUE=DATE:20110910
DTEND;VALUE=DATE:20110911
TRANSP:TRANSPARENT
PRIORITY:0
SUMMARY:WH Gym - CLOSED for Maintenance
LOCATION:WHE Gym
DESCRIPTION:WH Gym CLOSED for Maintenance\n\nGroups:\nMaintenance Staff\n\
 nSchools:\nWarren Hills Elementary\n\nLocation:\nWHE Gym\n\n
URL;VALUE=URI:http://liberty53.tandem.co/index.php?type=view&action=event&
 id=64468
CREATED:20110907T160205Z
LAST-MODIFIED:20110907T160205Z
UID:event-64468-liberty53@intand.com
END:VEVENT
END:VCALENDAR
