BEGIN:VCALENDAR
VERSION:2.0
PRODID:-//Intand Corporation//Tandem//EN
METHOD:PUBLISH
BEGIN:VEVENT
DTSTAMP:20260424T033255Z
DTSTART:20110908T233000Z
DTEND:20110909T010000Z
TRANSP:TRANSPARENT
PRIORITY:0
SUMMARY:LNHS France Trip 2012 Meeting
LOCATION:LNHS Room 914
DESCRIPTION:Groups:\nLNHS Grade 10\nLNHS Grade 11\nLNHS Grade 12\n\nSchool
 s:\nLiberty North High School\n\nLocation:\nLNHS Room 914\n\n
URL;VALUE=URI:http://liberty53.tandem.co/index.php?type=view&action=event&
 id=64426
CREATED:20110907T135623Z
LAST-MODIFIED:20110907T135623Z
UID:event_request-64426-liberty53@intand.com
END:VEVENT
END:VCALENDAR
