BEGIN:VCALENDAR
VERSION:2.0
PRODID:-//Intand Corporation//Tandem//EN
METHOD:PUBLISH
BEGIN:VEVENT
DTSTAMP:20260424T033412Z
DTSTART:20110909T160000Z
DTEND:20110909T180000Z
TRANSP:TRANSPARENT
PRIORITY:0
SUMMARY:DAC-A Client Installation Meeting
LOCATION:DAC Board Room A
DESCRIPTION:Setup: 10:30 am\nBreakdown: 1:30 pm\n\nGroups:\nDAC Business O
 perations\n\nSchools:\nDistrict Administration Center\n\nLocation:\nDAC Bo
 ard Room A\n\n
URL;VALUE=URI:http://liberty53.tandem.co/index.php?type=view&action=event&
 id=64374
CREATED:20110906T214025Z
LAST-MODIFIED:20110906T214025Z
UID:event-64374-liberty53@intand.com
END:VEVENT
END:VCALENDAR
