BEGIN:VCALENDAR
VERSION:2.0
PRODID:-//Intand Corporation//Tandem//EN
METHOD:PUBLISH
BEGIN:VEVENT
DTSTAMP:20260424T063416Z
DTSTART:20110204T233000Z
DTEND:20110205T023000Z
TRANSP:TRANSPARENT
PRIORITY:0
SUMMARY:LHS-JV/Var Boy's Basketball vs. Blue Springs
LOCATION:Liberty High School
DESCRIPTION:Groups:\nLHS Boys Basketball JV/Varsity\n\nSchools:\nLiberty H
 igh School\n\nLocation:\nLiberty High School\n\n
URL;VALUE=URI:http://liberty53.tandem.co/index.php?type=view&action=event&
 id=6435
CREATED:20100730T143303Z
LAST-MODIFIED:20100730T143303Z
UID:event-6435-liberty53@intand.com
END:VEVENT
END:VCALENDAR
