BEGIN:VCALENDAR
VERSION:2.0
PRODID:-//Intand Corporation//Tandem//EN
METHOD:PUBLISH
BEGIN:VEVENT
DTSTAMP:20260424T015250Z
DTSTART:20110914T233000Z
DTEND:20110915T010000Z
TRANSP:TRANSPARENT
PRIORITY:0
SUMMARY:SC-Peak Parent Information Night - Library
LOCATION:Shoal Creek Elementary
DESCRIPTION:Groups:\nSCE Staff\n\nSchools:\nShoal Creek Elementary\n\nLoca
 tion:\nShoal Creek Elementary\n\n
URL;VALUE=URI:http://liberty53.tandem.co/index.php?type=view&action=event&
 id=64269
CREATED:20110906T182532Z
LAST-MODIFIED:20110906T182532Z
UID:event-64269-liberty53@intand.com
END:VEVENT
END:VCALENDAR
