BEGIN:VCALENDAR
VERSION:2.0
PRODID:-//Intand Corporation//Tandem//EN
METHOD:PUBLISH
BEGIN:VEVENT
DTSTAMP:20260424T050258Z
DTSTART:20110916T130000Z
DTEND:20110916T203000Z
TRANSP:TRANSPARENT
PRIORITY:0
SUMMARY:LJHS-8th Grade Science
LOCATION:LJHS Auditorium
DESCRIPTION:Scott Heeke\n\nGroups:\nLJHS Staff\n\nSchools:\nHeritage Middl
 e School\n\nLocation:\nLJHS Auditorium\n\n
URL;VALUE=URI:http://liberty53.tandem.co/index.php?type=view&action=event&
 id=64260
CREATED:20110906T172528Z
LAST-MODIFIED:20110906T172528Z
UID:event-64260-liberty53@intand.com
END:VEVENT
END:VCALENDAR
