BEGIN:VCALENDAR
VERSION:2.0
PRODID:-//Intand Corporation//Tandem//EN
METHOD:PUBLISH
BEGIN:VEVENT
DTSTAMP:20260424T032918Z
DTSTART:20110920T210000Z
DTEND:20110921T000000Z
TRANSP:TRANSPARENT
PRIORITY:0
SUMMARY:[Cancelled] LHS-C Team Softball vs. Park Hill South
LOCATION:Liberty High School
DESCRIPTION:Groups:\nLHS Softball C-Team\n\nSchools:\nLiberty High School\
 n\nLocation:\nLiberty High School\n\n
URL;VALUE=URI:http://liberty53.tandem.co/index.php?type=view&action=event&
 id=6410
CREATED:20100730T143303Z
LAST-MODIFIED:20110812T114433Z
UID:event-6410-liberty53@intand.com
END:VEVENT
END:VCALENDAR
