BEGIN:VCALENDAR
VERSION:2.0
PRODID:-//Intand Corporation//Tandem//EN
METHOD:PUBLISH
BEGIN:VEVENT
DTSTAMP:20260424T043834Z
DTSTART:20110920T230000Z
DTEND:20110921T010000Z
TRANSP:TRANSPARENT
PRIORITY:0
SUMMARY:LS- 1st Grade Parent Reading Night
LOCATION:Lillian Schumacher Elementary\, LSE Library
DESCRIPTION:LS- 1st Grade Parent Reading Night\n\nGroups:\nLSE Staff\nLSE 
 Parent\n\nSchools:\nLillian Schumacher Elementary\n\nLocations:\nLillian S
 chumacher Elementary\nLSE Library\n\nPlease have enough chairs for 50 adul
 ts\n\n
URL;VALUE=URI:http://liberty53.tandem.co/index.php?type=view&action=event&
 id=63945
CREATED:20110902T201914Z
LAST-MODIFIED:20110902T201914Z
UID:event-63945-liberty53@intand.com
END:VEVENT
END:VCALENDAR
