BEGIN:VCALENDAR
VERSION:2.0
PRODID:-//Intand Corporation//Tandem//EN
METHOD:PUBLISH
BEGIN:VEVENT
DTSTAMP:20260424T020244Z
DTSTART:20110908T213000Z
DTEND:20110909T003000Z
TRANSP:TRANSPARENT
PRIORITY:0
SUMMARY:[Cancelled] LHS-C Team Softball @ Blue Springs South
LOCATION:Blue Springs South High
DESCRIPTION:Groups:\nLHS Softball C-Team\n\nSchools:\nLiberty High School\
 n\nLocation:\nBlue Springs South High\n\n
URL;VALUE=URI:http://liberty53.tandem.co/index.php?type=view&action=event&
 id=6388
CREATED:20100730T143302Z
LAST-MODIFIED:20110812T114355Z
UID:event-6388-liberty53@intand.com
END:VEVENT
END:VCALENDAR
