BEGIN:VCALENDAR
VERSION:2.0
PRODID:-//Intand Corporation//Tandem//EN
METHOD:PUBLISH
BEGIN:VEVENT
DTSTAMP:20260424T033632Z
DTSTART:20110912T203000Z
DTEND:20110912T233000Z
TRANSP:TRANSPARENT
PRIORITY:0
SUMMARY:LHS-C Team Soccer vs. Lee's Summit West
LOCATION:Liberty Middle School
DESCRIPTION:Groups:\nLHS Boys Soccer C-Team\n\nSchools:\nLiberty High Scho
 ol\n\nLocation:\nLiberty Middle School\n\n
URL;VALUE=URI:http://liberty53.tandem.co/index.php?type=view&action=event&
 id=6371
CREATED:20100730T143302Z
LAST-MODIFIED:20100730T143302Z
UID:event-6371-liberty53@intand.com
END:VEVENT
END:VCALENDAR
