BEGIN:VCALENDAR
VERSION:2.0
PRODID:-//Intand Corporation//Tandem//EN
METHOD:PUBLISH
BEGIN:VEVENT
DTSTAMP:20260424T054029Z
DTSTART:20110916T120000Z
DTEND:20110916T130000Z
TRANSP:TRANSPARENT
PRIORITY:0
SUMMARY:LHS - IEP - Barreca
LOCATION:LHS STUCO Room
DESCRIPTION:IEP\n\nGroups:\nLHS Students\n\nSchools:\nLiberty High School\
 n\nLocation:\nLHS STUCO Room\n\n
URL;VALUE=URI:http://liberty53.tandem.co/index.php?type=view&action=event&
 id=63595
CREATED:20110901T132250Z
LAST-MODIFIED:20110901T133124Z
UID:event_request-63595-liberty53@intand.com
END:VEVENT
END:VCALENDAR
