BEGIN:VCALENDAR
VERSION:2.0
PRODID:-//Intand Corporation//Tandem//EN
METHOD:PUBLISH
BEGIN:VEVENT
DTSTAMP:20260424T023704Z
DTSTART:20110909T120000Z
DTEND:20110909T130000Z
TRANSP:TRANSPARENT
PRIORITY:0
SUMMARY:LHS - IEP Meeting Edwards
LOCATION:LHS STUCO Room
DESCRIPTION:Groups:\nLHS SPED\n\nSchools:\nLiberty High School\n\nLocation
 :\nLHS STUCO Room\n\n
URL;VALUE=URI:http://liberty53.tandem.co/index.php?type=view&action=event&
 id=63481
CREATED:20110831T173358Z
LAST-MODIFIED:20110831T173358Z
UID:event_request-63481-liberty53@intand.com
END:VEVENT
END:VCALENDAR
