BEGIN:VCALENDAR
VERSION:2.0
PRODID:-//Intand Corporation//Tandem//EN
METHOD:PUBLISH
BEGIN:VEVENT
DTSTAMP:20260424T063648Z
DTSTART:20111004T230000Z
DTEND:20111005T010000Z
TRANSP:TRANSPARENT
PRIORITY:0
SUMMARY:LJHS-International Soccer Club
LOCATION:LJHS Turf Field
DESCRIPTION:Craig Williams (816) 210-7340\n\nGroups:\nInternational Soccer
  Club\n\nSchools:\nHeritage Middle School\n\nLocation:\nLJHS Turf Field\n\
 n
URL;VALUE=URI:http://liberty53.tandem.co/index.php?type=view&action=event&
 id=63464
CREATED:20110831T154100Z
LAST-MODIFIED:20110831T154414Z
UID:event-63464-liberty53@intand.com
END:VEVENT
END:VCALENDAR
