BEGIN:VCALENDAR
VERSION:2.0
PRODID:-//Intand Corporation//Tandem//EN
METHOD:PUBLISH
BEGIN:VEVENT
DTSTAMP:20260424T044817Z
DTSTART:20110928T120000Z
DTEND:20110928T130000Z
TRANSP:TRANSPARENT
PRIORITY:0
SUMMARY:LHS-Key Club Meeting
LOCATION:LHS The Little Theater
DESCRIPTION:Contact is Erin Garvey 816-686-9735\nThey will not be in the L
 GIR on 9/14/2011 because there are Musical Auditions\n\nGroups:\nLHS Key C
 lub\n\nSchools:\nLiberty High School\n\nLocation:\nLHS The Little Theater\
 n\n
URL;VALUE=URI:https://liberty53.tandem.co/index.php?type=view&action=event
 &id=63374
CREATED:20110831T124446Z
LAST-MODIFIED:20110831T124446Z
UID:event-63374-liberty53@intand.com
END:VEVENT
END:VCALENDAR
