BEGIN:VCALENDAR
VERSION:2.0
PRODID:-//Intand Corporation//Tandem//EN
METHOD:PUBLISH
BEGIN:VEVENT
DTSTAMP:20260424T063555Z
DTSTART:20110922T233000Z
DTEND:20110923T003000Z
TRANSP:TRANSPARENT
PRIORITY:0
SUMMARY:WHE - Watch Dog Dad Pizza Night - cafeteria\, 6:30 - 7:30
LOCATION:WHE Gym\, WHE Cafeteria
DESCRIPTION:Warren Hills Elementary Watch Dog Dad Pizza Night in the cafet
 eria from 6:30 - 7:30 p.m.\n\nGroups:\nWHE Staff\nWHE Parent\n\nSchools:\n
 Warren Hills Elementary\n\nLocations:\nWHE Gym\nWHE Cafeteria\n\n
URL;VALUE=URI:http://liberty53.tandem.co/index.php?type=view&action=event&
 id=63345
CREATED:20110830T205422Z
LAST-MODIFIED:20110906T191522Z
UID:event-63345-liberty53@intand.com
END:VEVENT
END:VCALENDAR
