BEGIN:VCALENDAR
VERSION:2.0
PRODID:-//Intand Corporation//Tandem//EN
METHOD:PUBLISH
BEGIN:VEVENT
DTSTAMP:20260424T050123Z
DTSTART:20111003T140000Z
DTEND:20111003T143000Z
TRANSP:TRANSPARENT
PRIORITY:0
SUMMARY:LHS - Creighton College Visit
LOCATION:LHS STUCO Room
DESCRIPTION:Groups:\nLHS Grade 11\nLHS Grade 12\n\nSchools:\nLiberty High 
 School\n\nLocation:\nLHS STUCO Room\n\n
URL;VALUE=URI:http://liberty53.tandem.co/index.php?type=view&action=event&
 id=63155
CREATED:20110826T152328Z
LAST-MODIFIED:20110826T152328Z
UID:event_request-63155-liberty53@intand.com
END:VEVENT
END:VCALENDAR
