BEGIN:VCALENDAR
VERSION:2.0
PRODID:-//Intand Corporation//Tandem//EN
METHOD:PUBLISH
BEGIN:VEVENT
DTSTAMP:20260424T015244Z
DTSTART:20111005T200000Z
DTEND:20111005T210000Z
TRANSP:TRANSPARENT
PRIORITY:0
SUMMARY:LHS - A+ Tutoring
LOCATION:LHS LMC Lab 302
DESCRIPTION:Eric Greely\n\nGroups:\nLHS Students\n\nSchools:\nLiberty High
  School\n\nLocation:\nLHS LMC Lab 302\n\n
URL;VALUE=URI:http://liberty53.tandem.co/index.php?type=view&action=event&
 id=62462
CREATED:20110825T142620Z
LAST-MODIFIED:20110825T142620Z
UID:event_request-62462-liberty53@intand.com
END:VEVENT
END:VCALENDAR
