BEGIN:VCALENDAR
VERSION:2.0
PRODID:-//Intand Corporation//Tandem//EN
METHOD:PUBLISH
BEGIN:VEVENT
DTSTAMP:20260424T032936Z
DTSTART:20110919T200000Z
DTEND:20110919T210000Z
TRANSP:TRANSPARENT
PRIORITY:0
SUMMARY:LNHS Jazz Workshop
LOCATION:LNHS Room 613 VM-Small
DESCRIPTION:Groups:\nLNHS Band\n\nSchools:\nLiberty North High School\n\nL
 ocation:\nLNHS Room 613 VM-Small\n\n
URL;VALUE=URI:http://liberty53.tandem.co/index.php?type=view&action=event&
 id=62325
CREATED:20110824T195939Z
LAST-MODIFIED:20110824T195939Z
UID:event-62325-liberty53@intand.com
END:VEVENT
END:VCALENDAR
