BEGIN:VCALENDAR
VERSION:2.0
PRODID:-//Intand Corporation//Tandem//EN
METHOD:PUBLISH
BEGIN:VEVENT
DTSTAMP:20260424T063522Z
DTSTART:20110921T210000Z
DTEND:20110921T220000Z
TRANSP:TRANSPARENT
PRIORITY:0
SUMMARY:LHS-JV/V Volleyball
LOCATION:LHS LMC Lab 301
DESCRIPTION:Contact is Eric Leone ext. 2929\n\nGroups:\nLHS Volleyball JV/
 Varsity\n\nSchools:\nLiberty High School\n\nLocation:\nLHS LMC Lab 301\n\n
URL;VALUE=URI:http://liberty53.tandem.co/index.php?type=view&action=event&
 id=61982
CREATED:20110824T141134Z
LAST-MODIFIED:20110824T141134Z
UID:event-61982-liberty53@intand.com
END:VEVENT
END:VCALENDAR
