BEGIN:VCALENDAR
VERSION:2.0
PRODID:-//Intand Corporation//Tandem//EN
METHOD:PUBLISH
BEGIN:VEVENT
DTSTAMP:20260424T035129Z
DTSTART;VALUE=DATE:20110912
DTEND;VALUE=DATE:20110913
TRANSP:TRANSPARENT
PRIORITY:0
SUMMARY:LMS- Picture Retake Day
LOCATION:Liberty Middle School
DESCRIPTION:Groups:\nLMS Parent\nLMS Staff\n\nSchools:\nLiberty Middle Sch
 ool\n\nLocation:\nLiberty Middle School\n\n
URL;VALUE=URI:http://liberty53.tandem.co/index.php?type=view&action=event&
 id=61938
CREATED:20110823T195257Z
LAST-MODIFIED:20110823T195257Z
UID:event-61938-liberty53@intand.com
END:VEVENT
END:VCALENDAR
