BEGIN:VCALENDAR
VERSION:2.0
PRODID:-//Intand Corporation//Tandem//EN
METHOD:PUBLISH
BEGIN:VEVENT
DTSTAMP:20260424T024027Z
DTSTART:20110922T233000Z
DTEND:20110923T003000Z
TRANSP:TRANSPARENT
PRIORITY:0
SUMMARY:MH Girls Scout Troop #3853-Goll
LOCATION:Manor Hill Elementary\, MHE Cafeteria
DESCRIPTION:Groups:\nCadette Troop #3853\n\nSchools:\nManor Hill Elementar
 y\n\nLocations:\nManor Hill Elementary\nMHE Cafeteria\n\n
URL;VALUE=URI:http://liberty53.tandem.co/index.php?type=view&action=event&
 id=61922
CREATED:20110823T195115Z
LAST-MODIFIED:20110823T195115Z
UID:event-61922-liberty53@intand.com
END:VEVENT
END:VCALENDAR
