BEGIN:VCALENDAR
VERSION:2.0
PRODID:-//Intand Corporation//Tandem//EN
METHOD:PUBLISH
BEGIN:VEVENT
DTSTAMP:20260424T032936Z
DTSTART:20111005T223000Z
DTEND:20111006T023000Z
TRANSP:TRANSPARENT
PRIORITY:0
SUMMARY:LHS-William Woods University
LOCATION:LHS Room 608
DESCRIPTION:Contact is Jessica Brush 1-573-592-4227\n\nGroups:\nWilliam Wo
 ods University\n\nSchools:\nLiberty High School\n\nLocation:\nLHS Room 608
 \n\n
URL;VALUE=URI:http://liberty53.tandem.co/index.php?type=view&action=event&
 id=61824
CREATED:20110823T193809Z
LAST-MODIFIED:20110823T193809Z
UID:event-61824-liberty53@intand.com
END:VEVENT
END:VCALENDAR
