BEGIN:VCALENDAR
VERSION:2.0
PRODID:-//Intand Corporation//Tandem//EN
METHOD:PUBLISH
BEGIN:VEVENT
DTSTAMP:20260424T015239Z
DTSTART:20110912T233000Z
DTEND:20110913T010000Z
TRANSP:TRANSPARENT
PRIORITY:0
SUMMARY:SC-Lady Eagles Basketball - Gym
LOCATION:Shoal Creek Elementary
DESCRIPTION:10 girls w/ coaches in gym *Change group to Lady Eagles Basket
 ball\n\nGroups:\nSCE Staff\nLady Eagles Basketball\n\nSchools:\nShoal Cree
 k Elementary\n\nLocation:\nShoal Creek Elementary\n\n
X-ALT-DESC;FMTTYPE=text/html:<!doctype html><html><body>10 girls w/ coache
 s in gym *Change <em><strong><span style="text-decoration: underline\;">gr
 oup</span></strong></em> to Lady Eagles Basketball<br /><br />Groups:<br /
 >SCE Staff<br />Lady Eagles Basketball<br /><br />Schools:<br />Shoal Cree
 k Elementary<br /><br />Location:<br />Shoal Creek Elementary<br /></body>
 </html>
URL;VALUE=URI:http://liberty53.tandem.co/index.php?type=view&action=event&
 id=61652
CREATED:20110823T182233Z
LAST-MODIFIED:20110922T124244Z
UID:event-61652-liberty53@intand.com
END:VEVENT
END:VCALENDAR
