BEGIN:VCALENDAR
VERSION:2.0
PRODID:-//Intand Corporation//Tandem//EN
METHOD:PUBLISH
BEGIN:VEVENT
DTSTAMP:20260424T050141Z
DTSTART:20110930T223000Z
DTEND:20111001T010000Z
TRANSP:TRANSPARENT
PRIORITY:0
SUMMARY:LC-Tailgate Party
LOCATION:LCE Gym\, LCE Cafeteria\, LCE Soccer Field\, LCE Library
DESCRIPTION:Groups:\nLCE PTA\nLCE Parent\nLCE Staff\n\nSchools:\nLewis And
  Clark Elementary\n\nLocations:\nLCE Gym\nLCE Cafeteria\nLCE Soccer Field\
 nLCE Library\n\n
URL;VALUE=URI:http://liberty53.tandem.co/index.php?type=view&action=event&
 id=61610
CREATED:20110823T175237Z
LAST-MODIFIED:20110906T134746Z
UID:event-61610-liberty53@intand.com
END:VEVENT
END:VCALENDAR
