BEGIN:VCALENDAR
VERSION:2.0
PRODID:-//Intand Corporation//Tandem//EN
METHOD:PUBLISH
BEGIN:VEVENT
DTSTAMP:20260424T063509Z
DTSTART:20110923T130000Z
DTEND:20110923T210000Z
TRANSP:TRANSPARENT
PRIORITY:0
SUMMARY:[Cancelled] DAC/DAS:  ABC- SMCAA (Colleen Jones)
LOCATION:DAC Board Room A\, DAS Board Room C\, DAC Board Room B
DESCRIPTION:Groups:\nDAC Innovative Design\n\nSchools:\nDistrict Administr
 ation Center\n\nLocations:\nDAC Board Room A\nDAS Board Room C\nDAC Board 
 Room B\n\nColleen Jones\n\n
URL;VALUE=URI:http://liberty53.tandem.co/index.php?type=view&action=event&
 id=61403
CREATED:20110823T143850Z
LAST-MODIFIED:20110920T164605Z
UID:event-61403-liberty53@intand.com
END:VEVENT
END:VCALENDAR
