BEGIN:VCALENDAR
VERSION:2.0
PRODID:-//Intand Corporation//Tandem//EN
METHOD:PUBLISH
BEGIN:VEVENT
DTSTAMP:20260424T033040Z
DTSTART:20111004T200000Z
DTEND:20111004T210000Z
TRANSP:TRANSPARENT
PRIORITY:0
SUMMARY:LNHS Dept Chair Meetings
LOCATION:LNHS Room 707
DESCRIPTION:Groups:\nLNHS Staff\n\nSchools:\nLiberty North High School\n\n
 Location:\nLNHS Room 707\n\n
URL;VALUE=URI:http://liberty53.tandem.co/index.php?type=view&action=event&
 id=60551
CREATED:20110819T134131Z
LAST-MODIFIED:20110819T134131Z
UID:event_request-60551-liberty53@intand.com
END:VEVENT
END:VCALENDAR
