BEGIN:VCALENDAR
VERSION:2.0
PRODID:-//Intand Corporation//Tandem//EN
METHOD:PUBLISH
BEGIN:VEVENT
DTSTAMP:20260424T033544Z
DTSTART:20110913T200000Z
DTEND:20110913T220000Z
TRANSP:TRANSPARENT
PRIORITY:0
SUMMARY:People in Motion Auditions
LOCATION:LNHS Performing Arts Theater (GH HVAC)
DESCRIPTION:Groups:\nLNHS People in Motion\n\nSchools:\nLiberty North High
  School\n\nLocation:\nLNHS Performing Arts Theater (GH HVAC)\n\n
URL;VALUE=URI:http://liberty53.tandem.co/index.php?type=view&action=event&
 id=60548
CREATED:20110819T124722Z
LAST-MODIFIED:20110819T124722Z
UID:event_request-60548-liberty53@intand.com
END:VEVENT
END:VCALENDAR
